BEGIN:VCALENDAR
VERSION:2.0
PRODID:-//Our Lady Of Hope - ECPv6.15.20//NONSGML v1.0//EN
CALSCALE:GREGORIAN
METHOD:PUBLISH
X-WR-CALNAME:Our Lady Of Hope
X-ORIGINAL-URL:https://www.ourladyofhope.org.uk
X-WR-CALDESC:Events for Our Lady Of Hope
REFRESH-INTERVAL;VALUE=DURATION:PT1H
X-Robots-Tag:noindex
X-PUBLISHED-TTL:PT1H
BEGIN:VTIMEZONE
TZID:UTC
BEGIN:STANDARD
TZOFFSETFROM:+0000
TZOFFSETTO:+0000
TZNAME:UTC
DTSTART:20230101T000000
END:STANDARD
END:VTIMEZONE
BEGIN:VEVENT
DTSTART;VALUE=DATE:20240707
DTEND;VALUE=DATE:20240708
DTSTAMP:20260423T051338
CREATED:20231001T055454Z
LAST-MODIFIED:20240116T161428Z
UID:1052-1720310400-1720396799@www.ourladyofhope.org.uk
SUMMARY:Parish Summer Fair
DESCRIPTION:
URL:https://www.ourladyofhope.org.uk/event/parish-summer-fair/
LOCATION:Ss Peter & Paul\, Park Rd\, Pendleton\, M6 8JR
CATEGORIES:Fundraising
END:VEVENT
BEGIN:VEVENT
DTSTART;TZID=UTC:20240724T190000
DTEND;TZID=UTC:20240724T200000
DTSTAMP:20260423T051338
CREATED:20240718T174130Z
LAST-MODIFIED:20240718T175616Z
UID:2231-1721847600-1721851200@www.ourladyofhope.org.uk
SUMMARY:International Drum Group
DESCRIPTION:This will be our 1st drum group session. Beginners welcome\, we will be starting with basic drum patterns and it is\, of course\, free. \nWe will be using an international selection of drums as this is what we have available: djembes\, congas\,  talking drum. Also various shakers\, shekere \, “cowbells” and blocks. We will learn to play the different tones that can be made on a hand drum and these are the same for many types of drum. \nPlaying is for fun. We will from time to time be able to use these rhythms in our Mass also. \nDrums and percussion provided but if you have your own then please bring. Do let me know if you are a drummer who can help with the group. Speak to Paul Ashton\, message here or email music@ourladyofhope.org.uk
URL:https://www.ourladyofhope.org.uk/event/international-drum-group/
LOCATION:St Luke church\, Swinton Park Rd\, Salford\, M6 7WR
CATEGORIES:Parish Group
ATTACH;FMTTYPE=image/png:https://www.ourladyofhope.org.uk/wp-content/uploads/2024/07/playdrums.png
END:VEVENT
BEGIN:VEVENT
DTSTART;VALUE=DATE:20240726
DTEND;VALUE=DATE:20240802
DTSTAMP:20260423T051338
CREATED:20240306T180718Z
LAST-MODIFIED:20240306T180814Z
UID:1540-1721952000-1722556799@www.ourladyofhope.org.uk
SUMMARY:Diocesan Pilgrimage to Lourdes
DESCRIPTION:Diocesan Pilgrimage to Lourdes in our Centenary Year: \nBookings are now being taken for this year’s diocesan pilgrimage to Lourdes\, marking our centenary year. \nThe pilgrimage\, led by Bishop John Arnold\, will take place between 26 July and 1 August. \nFind out more and book online at https://www.salfordlourdes.co.uk/travel-accommodation
URL:https://www.ourladyofhope.org.uk/event/diocesan-pilgrimage-to-lourdes/
CATEGORIES:Pilgrimage
END:VEVENT
END:VCALENDAR