BEGIN:VCALENDAR
VERSION:2.0
PRODID:-//Our Lady Of Hope - ECPv6.15.20//NONSGML v1.0//EN
CALSCALE:GREGORIAN
METHOD:PUBLISH
X-WR-CALNAME:Our Lady Of Hope
X-ORIGINAL-URL:https://www.ourladyofhope.org.uk
X-WR-CALDESC:Events for Our Lady Of Hope
REFRESH-INTERVAL;VALUE=DURATION:PT1H
X-Robots-Tag:noindex
X-PUBLISHED-TTL:PT1H
BEGIN:VTIMEZONE
TZID:UTC
BEGIN:STANDARD
TZOFFSETFROM:+0000
TZOFFSETTO:+0000
TZNAME:UTC
DTSTART:20220101T000000
END:STANDARD
END:VTIMEZONE
BEGIN:VEVENT
DTSTART;TZID=UTC:20231018T193000
DTEND;TZID=UTC:20231018T193000
DTSTAMP:20260422T223721
CREATED:20230429T063816Z
LAST-MODIFIED:20231001T051434Z
UID:626-1697657400-1697657400@www.ourladyofhope.org.uk
SUMMARY:Mikron Theatre ‘A Force to be Reckoned With’
DESCRIPTION:Pioneering women in the police \n\nWriter & Lyricist : Amanda Whittington\nComposer and Co-lyricist : Greg Last\nDirector : Gitika Buttoo\nMusic Director & Arranger : Dan McGlade\nSet & Costume Designer : Celia Perkins\n\n  \nWith handbag\, whistle and a key to the Police Box\, WPC Iris Armstrong is ready for whatever the mean streets of a 1950s market town throws at her. \nFresh from police training school\, she prepares for her first day on the beat. The reality is very different. Stuck at the station\, she soon finds her main jobs are typing and making brews. \nIris joins forces with fellow WPC Ruby Weston. They’re an unlikely partnership. A two-girl department\, called to any case involving women and children\, from troublesome teens to fraudulent fortune tellers. \nWhat starts as ‘women’s work’ soon becomes a specialist role. \nIris finds she’s earning her place in a historic force to be reckoned with. Along the way\, she discovers the Edwardian volunteers who came before her\, a lineage of Suffragettes-turned-moral enforcers and the secrets that the police box hides. \nIn this arresting tale of law and order\, join forces with Mikron as we investigate pioneering women in the police. \n \nAll proceeds will be for Our Lady of Hope Parish. \nTo reserve your tickets…… \nyou can book directly on line on the MIKRON website \nMikron Theatre Co. :: Tour Dates – Event Detail \nOR you can contact Rita by email rita@mcnassociates.org.uk / mobile 07793206251.  \nTickets can be reserved with me and paid for on the night at the door.
URL:https://www.ourladyofhope.org.uk/event/mikron-theatre/
LOCATION:St Luke’s Parish Centre\, Swinton Park Rd\, Irlams o’ th’ Height\, Salford\, M6 7WR
CATEGORIES:Social Event
ATTACH;FMTTYPE=image/jpeg:https://www.ourladyofhope.org.uk/wp-content/uploads/2023/04/IMG_6494.jpeg
ORGANIZER;CN="Rita":MAILTO:rita@mcnassociates.org.uk
END:VEVENT
BEGIN:VEVENT
DTSTART;TZID=UTC:20231002T190000
DTEND;TZID=UTC:20231002T190000
DTSTAMP:20260422T223721
CREATED:20231001T055140Z
LAST-MODIFIED:20231001T055211Z
UID:1050-1696273200-1696273200@www.ourladyofhope.org.uk
SUMMARY:Social and Community Group
DESCRIPTION:Social and Community Group. The next meeting will be held Monday\, 2nd October\, 7pm at St P&P Church.  We will be discussing the Christmas Fair amongst other items.  All welcome- come and give us your support!
URL:https://www.ourladyofhope.org.uk/event/social-and-community-group-2/
LOCATION:Ss Peter & Paul\, Park Rd\, Pendleton\, M6 8JR
CATEGORIES:Parish Group
END:VEVENT
BEGIN:VEVENT
DTSTART;TZID=UTC:20231002T130000
DTEND;TZID=UTC:20231002T150000
DTSTAMP:20260422T223721
CREATED:20231001T054741Z
LAST-MODIFIED:20231001T054741Z
UID:1046-1696251600-1696258800@www.ourladyofhope.org.uk
SUMMARY:Craft Group
DESCRIPTION:The next meeting of the group will be on Tuesday October 2nd at St Peter and Paul 1-3. All welcome to come along \, see what we are doing to make items for the Christmas Fair. Share a cuppa and cake !
URL:https://www.ourladyofhope.org.uk/event/craft-group/
LOCATION:Ss Peter & Paul\, Park Rd\, Pendleton\, M6 8JR
CATEGORIES:Parish Group
END:VEVENT
BEGIN:VEVENT
DTSTART;TZID=UTC:20230922T193000
DTEND;TZID=UTC:20230922T193000
DTSTAMP:20260422T223721
CREATED:20230429T063538Z
LAST-MODIFIED:20230515T162250Z
UID:624-1695411000-1695411000@www.ourladyofhope.org.uk
SUMMARY:Jazz concert
DESCRIPTION:
URL:https://www.ourladyofhope.org.uk/event/jazz-concert/
LOCATION:St Luke’s Parish Centre\, Swinton Park Rd\, Irlams o’ th’ Height\, Salford\, M6 7WR
CATEGORIES:Social Event
END:VEVENT
BEGIN:VEVENT
DTSTART;VALUE=DATE:20230910
DTEND;VALUE=DATE:20230911
DTSTAMP:20260422T223721
CREATED:20230605T094422Z
LAST-MODIFIED:20230605T094443Z
UID:764-1694304000-1694390399@www.ourladyofhope.org.uk
SUMMARY:St P&P UCM Afternoon Tea at St Luke’s Parish Centre.
DESCRIPTION:
URL:https://www.ourladyofhope.org.uk/event/st-pp-ucm-afternoon-tea-at-st-lukes-parish-centre/
LOCATION:St Luke’s Parish Centre\, Swinton Park Rd\, Irlams o’ th’ Height\, Salford\, M6 7WR
CATEGORIES:Fundraising
END:VEVENT
BEGIN:VEVENT
DTSTART;VALUE=DATE:20230728
DTEND;VALUE=DATE:20230804
DTSTAMP:20260422T223721
CREATED:20230429T073110Z
LAST-MODIFIED:20230515T162329Z
UID:641-1690502400-1691107199@www.ourladyofhope.org.uk
SUMMARY:Lourdes Pilgrimage
DESCRIPTION:Lourdes Pilgrimage: Travel and accommodation booking is now available for this Summer’s pilgrimage to Lourdes (28 July to 3 Aug)\, led by Bishop John Arnold. Full details are available on the pilgrimage website: www.salfordlourdes.co.uk. All bookings and enquiries can be made via Joe Walsh Tours\, (ATOL 11313) on 0808 189 0468\, or by email: info@joewalshtours.co.uk
URL:https://www.ourladyofhope.org.uk/event/lourdes-pilgrimage/
CATEGORIES:Fundraising
END:VEVENT
BEGIN:VEVENT
DTSTART;TZID=UTC:20230716T140000
DTEND;TZID=UTC:20230716T160000
DTSTAMP:20260422T223721
CREATED:20230429T063318Z
LAST-MODIFIED:20230716T061157Z
UID:622-1689516000-1689523200@www.ourladyofhope.org.uk
SUMMARY:Summer Fair
DESCRIPTION:
URL:https://www.ourladyofhope.org.uk/event/summer-fair/
LOCATION:Ss Peter & Paul\, Park Rd\, Pendleton\, M6 8JR
CATEGORIES:Fundraising
END:VEVENT
BEGIN:VEVENT
DTSTART;TZID=UTC:20230701T193000
DTEND;TZID=UTC:20230701T193000
DTSTAMP:20260422T223721
CREATED:20230429T054640Z
LAST-MODIFIED:20230624T172012Z
UID:617-1688239800-1688239800@www.ourladyofhope.org.uk
SUMMARY:Music for a Summer Evening
DESCRIPTION:An evening of music and song with something for everyone – including familiar classics\, songs from musicals\, jazz\, pop and everything in between.\n\n\n\nPerformers are\nLulu Yang and Ian Gifford\, Enid Noronha\, Paul Ashton and Ijeoma Emeka\, Tom O’Donnell\, John Denton\n\nTickets (£5 each) are now on sale at both churches.\n\nAbout Our Performers\n\n\nLulu Yang – Piano\nLulu was born in Sichuan\, China. She studied at Chetham’s School of Music\, the Royal Northern College of Music and at Yale School of Music.\nLulu has given many solo recitals in the UK and has also performed in Holland\, Switzerland\, USA and Jordan and has been invited on concert tours of Russia and China. Lulu is the recipient of many prizes and awards and has appeared in the Media several times. Her concert tour of Russia (2001) was filmed by ITV and was broadcast later that year. Lulu now teaches piano at Chetham’s School of Music.\n\n\n\nIan Gifford – Baritone\nIan studied electronic engineering at Bradford University before developing an interest in singing. Ian began private singing lessons which eventually led him to postgraduate study at the Birmingham Conservatoire and the Royal Northern College of Music. During his time at college Ian performed as soloist in a number of oratorios including Mozart’s Requiem\, Handel’s Messiah\, Rossini’s Petite Messe Solenelle and Stabat Mater and sung principals roles in operas such as Die Fledermaus\, Don Pasquale\, L’heure Espagnole and La Calisto.\n\n\n\n\n\nIjeoma Emeka & Paul Ashton\nIjeoma Emeka sang with the band\, Jazz Central\, while at medical school – an eclectic mix of Blues\, Jazz\, Soul and even Reggae.\n\n\nPaul Ashton :Keyboard player and writer with the band Dr Truth\, which headlined blues festivals in UK\, France and Italy. With other bands he has played in Italy and USA and performed with many of Manchester’s famous artists. He has also played keyboards/synths and was music director playing festivals with Omar\, Junior and Curiosity Killed The Cat’s Ben Volpeliere-Pierrot. Filmed by Granada when his band played with Jason Donovan in the studio and he appeared on TV with Manchester’s own X-Factor star\, Misha B\, where they performed songs they wrote together.\n\n\n\nJohn Denton \n\nJohn Denton is our youngest musician but is no stranger to playing live music and can be seen regularly busking on the streets of Manchester\, the videos of which have racked up thousands of views on the band’s social media channels . Additionally\, John has also taken to the stage and performed at the world famous Salford Lads Club. His group “The Height” released their debut single “Nowhere” in December and this was followed up with an EP “Nowhere To Go”. The band also caught the ear and eye of legendary The Smiths guitarist and co-songwriter Johnny Marr who awarded lead vocalist/guitarist John Denton the first ever ‘The Salford Foundation Trust Johnny Marr Award’.
URL:https://www.ourladyofhope.org.uk/event/music-for-a-summer-evening/
LOCATION:St Luke’s Parish Centre\, Swinton Park Rd\, Irlams o’ th’ Height\, Salford\, M6 7WR
CATEGORIES:Social Event
END:VEVENT
BEGIN:VEVENT
DTSTART;TZID=UTC:20230627T130000
DTEND;TZID=UTC:20230627T150000
DTSTAMP:20260422T223721
CREATED:20230605T065603Z
LAST-MODIFIED:20230605T091302Z
UID:760-1687870800-1687878000@www.ourladyofhope.org.uk
SUMMARY:Parish Craft Group
DESCRIPTION:The next meeting of the group will be on Tuesday June 27th from 1pm -3pm. All welcome !
URL:https://www.ourladyofhope.org.uk/event/parish-craft-group/
LOCATION:Ss Peter & Paul\, Park Rd\, Pendleton\, M6 8JR
CATEGORIES:Parish Group
END:VEVENT
BEGIN:VEVENT
DTSTART;TZID=UTC:20230614T190000
DTEND;TZID=UTC:20230614T190000
DTSTAMP:20260422T223721
CREATED:20230610T205216Z
LAST-MODIFIED:20230610T205216Z
UID:769-1686769200-1686769200@www.ourladyofhope.org.uk
SUMMARY:St Luke's UCM Meeting
DESCRIPTION:The next meeting will be on Wednesday 14 June 2023 at 7.00pm in the Parish Centre.
URL:https://www.ourladyofhope.org.uk/event/st-lukes-ucm-meeting/
LOCATION:St Luke’s Parish Centre\, Swinton Park Rd\, Irlams o’ th’ Height\, Salford\, M6 7WR
CATEGORIES:Meeting
END:VEVENT
BEGIN:VEVENT
DTSTART;TZID=UTC:20230611T173000
DTEND;TZID=UTC:20230611T173000
DTSTAMP:20260422T223721
CREATED:20230610T205956Z
LAST-MODIFIED:20230610T205956Z
UID:771-1686504600-1686504600@www.ourladyofhope.org.uk
SUMMARY:Diocesan Young Adults Mass
DESCRIPTION:Our next Young Adults Mass will take place on Sunday 11 June\, 5.30pm (confessions between 4.45 – 5.15pm) at St Augustine’s Church\, Grosvenor Square\, Manchester. Fr Mark Paver will lead us in the celebration of Mass\, which will begin at 5.30pm\, before we welcome Charlotte Hibbert (School Chaplain at St Bede’s) to give a short talk about the Sacred Heart and her relationship with Christ. All are very welcome to attend.
URL:https://www.ourladyofhope.org.uk/event/diocesan-young-adults-mass/
LOCATION:St Augustine’s Church\, Grosvenor Square\, Manchester
END:VEVENT
BEGIN:VEVENT
DTSTART;TZID=UTC:20230611T080000
DTEND;TZID=UTC:20230611T120000
DTSTAMP:20260422T223721
CREATED:20230605T094145Z
LAST-MODIFIED:20230610T205339Z
UID:762-1686470400-1686484800@www.ourladyofhope.org.uk
SUMMARY:St P&P UCM cake\, jam\, chutney sale after Mass
DESCRIPTION:St P&P UCM are holding a cake\, jam\, chutney sale after 8am and 11am Mass.  There is also a raffle for a splendid hamper!
URL:https://www.ourladyofhope.org.uk/event/st-pp-ucm-are-holding-a-cake-jam-chutney-sale/
LOCATION:Ss Peter & Paul\, Park Rd\, Pendleton\, M6 8JR
CATEGORIES:Fundraising
END:VEVENT
BEGIN:VEVENT
DTSTART;TZID=UTC:20230602T193000
DTEND;TZID=UTC:20230602T193000
DTSTAMP:20260422T223721
CREATED:20230429T063117Z
LAST-MODIFIED:20230523T142129Z
UID:620-1685734200-1685734200@www.ourladyofhope.org.uk
SUMMARY:Monton Voices concert
DESCRIPTION:Not ticketed: There will be a bucket collection \n 
URL:https://www.ourladyofhope.org.uk/event/monton-voices-concert/
LOCATION:Ss Peter & Paul\, Park Rd\, Pendleton\, M6 8JR
CATEGORIES:Social Event
ATTACH;FMTTYPE=image/jpeg:https://www.ourladyofhope.org.uk/wp-content/uploads/2023/04/montonvoices.jpg
END:VEVENT
BEGIN:VEVENT
DTSTART;TZID=UTC:20230528T140000
DTEND;TZID=UTC:20230528T163000
DTSTAMP:20260422T223721
CREATED:20230429T163138Z
LAST-MODIFIED:20230515T162540Z
UID:649-1685282400-1685291400@www.ourladyofhope.org.uk
SUMMARY:St. Luke's UCM Afternoon Tea
DESCRIPTION:St. Luke’s UCM Afternoon Tea is on Sunday May 28th 2.00pm-4.30pm. Our charity this year is St. Ann’s Hospice.  Tickets are £10 and are on sale after all Masses.  Admission is by ticket only \nTickets will be on sale after all masses or phone Stephanie McDonough on 737 6419
URL:https://www.ourladyofhope.org.uk/event/st-lukes-ucm-afternoon-tea/
LOCATION:St Luke’s Parish Centre\, Swinton Park Rd\, Irlams o’ th’ Height\, Salford\, M6 7WR
CATEGORIES:Social Event
END:VEVENT
BEGIN:VEVENT
DTSTART;TZID=UTC:20230522T193000
DTEND;TZID=UTC:20230522T193000
DTSTAMP:20260422T223721
CREATED:20230515T162750Z
LAST-MODIFIED:20230515T162851Z
UID:694-1684783800-1684783800@www.ourladyofhope.org.uk
SUMMARY:Social and Community Group Meeting
DESCRIPTION:All welcome!  Please come to join us as we discuss arrangements for the Summer Fair and other forthcoming activities.
URL:https://www.ourladyofhope.org.uk/event/social-and-community-group/
LOCATION:Ss Peter & Paul\, Park Rd\, Pendleton\, M6 8JR
CATEGORIES:Meeting
END:VEVENT
BEGIN:VEVENT
DTSTART;VALUE=DATE:20230520
DTEND;VALUE=DATE:20230521
DTSTAMP:20260422T223721
CREATED:20230401T170642Z
LAST-MODIFIED:20230515T161957Z
UID:238-1684540800-1684627199@www.ourladyofhope.org.uk
SUMMARY:Walsingham 2023
DESCRIPTION:The annual diocesan pilgrimage takes place on on Saturday 20 May. The cost is £45 for the day trip and £134 for an overnight stay in a Standard room\, and £150 for an overnight stay in an En-Suite room. For more information\, call 0161 817 2214 or email walsingham.pilgrimage@dioceseofsalford.org.uk. \nAlongside the main pilgrimage\, we will also have our Youth Pilgrimage. For more information please email youth@dioceseofsalford.org.uk.
URL:https://www.ourladyofhope.org.uk/event/walsingham-2023/
CATEGORIES:Pilgrimage
END:VEVENT
BEGIN:VEVENT
DTSTART;TZID=UTC:20230516T190000
DTEND;TZID=UTC:20230516T210000
DTSTAMP:20260422T223721
CREATED:20230429T073841Z
LAST-MODIFIED:20230515T162612Z
UID:647-1684263600-1684270800@www.ourladyofhope.org.uk
SUMMARY:Diocesan Synod Information Session - Accrington
DESCRIPTION:Tuesday 16 May (7pm-9pm) Mount Carmel RC High School\, Accrington\, BB5 0LU Register at \nwww.eventbrite.co.uk/e/621737402307
URL:https://www.ourladyofhope.org.uk/event/diocesan-synod-accrington/
CATEGORIES:Meeting
END:VEVENT
BEGIN:VEVENT
DTSTART;TZID=UTC:20230514T173000
DTEND;TZID=UTC:20230514T173000
DTSTAMP:20260422T223721
CREATED:20230506T151425Z
LAST-MODIFIED:20230515T163118Z
UID:683-1684085400-1684085400@www.ourladyofhope.org.uk
SUMMARY:Young Adults Mass
DESCRIPTION:Young Adults Mass: Join us for an evening of prayer\, reflection\, and community as our Young Adults Mass returns to St Augustine’s Church\, Grosvenor Street\, Manchester this May. The Mass will take place at 5.30pm on Sunday 14 May and will be followed by a social after Mass\, when we will hear from the Diocese of Salford’s Formation Team about our Diocesan Synod. All are very welcome to attend. 
URL:https://www.ourladyofhope.org.uk/event/young-adults-mass/
CATEGORIES:Mass/Service
END:VEVENT
BEGIN:VEVENT
DTSTART;TZID=UTC:20230513T100000
DTEND;TZID=UTC:20230513T120000
DTSTAMP:20260422T223721
CREATED:20230429T073742Z
LAST-MODIFIED:20230515T163030Z
UID:645-1683972000-1683979200@www.ourladyofhope.org.uk
SUMMARY:Diocesan Synod Information Session - Manchester
DESCRIPTION:Saturday 13 May (10am-12pm) Manchester – Newman Catholic College Chadderton\, Oldham\, OL9 9QY Register at www.eventbrite.co.uk/e/621729970077
URL:https://www.ourladyofhope.org.uk/event/diocesan-synod-manchester/
CATEGORIES:Meeting
END:VEVENT
BEGIN:VEVENT
DTSTART;TZID=UTC:20230511T190000
DTEND;TZID=UTC:20230511T210000
DTSTAMP:20260422T223721
CREATED:20230429T073530Z
LAST-MODIFIED:20230515T163030Z
UID:643-1683831600-1683838800@www.ourladyofhope.org.uk
SUMMARY:Diocesan Synod Information Session - Salford
DESCRIPTION:Thursday 11 May (7pm-9pm) Salford – St Ambrose Barlow High School\, Swinton\, M27 9QP Register at www.eventbrite.co.uk/e/621695878107
URL:https://www.ourladyofhope.org.uk/event/diocesan-synod-salford/
CATEGORIES:Meeting
END:VEVENT
BEGIN:VEVENT
DTSTART;TZID=UTC:20230509T190000
DTEND;TZID=UTC:20230509T190000
DTSTAMP:20260422T223721
CREATED:20230506T151523Z
LAST-MODIFIED:20230515T162952Z
UID:685-1683658800-1683658800@www.ourladyofhope.org.uk
SUMMARY:Survivors Mass
DESCRIPTION:Survivors Mass: This month\, we unite with people across the globe in taking part in a worldwide day of prayer for survivors of abuse. We will be marking the day in our diocese with a Mass at St Patrick’s in Collyhurst (Livesey Street\, Manchester\, M4 5HF) on Tuesday 9 May at 7pm. All are welcome to take part in this celebration of Mass with Bishop John\, members of our Diocesan Safeguarding Team\, and others. 
URL:https://www.ourladyofhope.org.uk/event/survivors-mass/
CATEGORIES:Mass/Service
END:VEVENT
BEGIN:VEVENT
DTSTART;TZID=UTC:20230421T100000
DTEND;TZID=UTC:20230421T123000
DTSTAMP:20260422T223721
CREATED:20230418T144048Z
LAST-MODIFIED:20230515T163101Z
UID:380-1682071200-1682080200@www.ourladyofhope.org.uk
SUMMARY:Women Saints and Spirituality:
DESCRIPTION:Our next session takes place on Friday 21 April (10am-12.30pm) at Wardley Hall\, Worsley\, Manchester\, M28 2ND and has a special focus on Catherine of Siena. Contact Sister Joan Kerley at joankfmsj@gmail.com or 07934 816 796 to reserve a place. Find out more at www.dioceseofsalford.org.uk/women-saints-and-spirituality/
URL:https://www.ourladyofhope.org.uk/event/women-saints-and-spirituality/
LOCATION:Wardley Hall\, Wardley Hall\, Worsley\,\, Manchester\, M28 2ND
CATEGORIES:Meeting
END:VEVENT
BEGIN:VEVENT
DTSTART;TZID=UTC:20230419T193000
DTEND;TZID=UTC:20230419T193000
DTSTAMP:20260422T223721
CREATED:20230401T163412Z
LAST-MODIFIED:20230419T082431Z
UID:227-1681932600-1681932600@www.ourladyofhope.org.uk
SUMMARY:Mikron Theatre Company: Presents ‘Twitchers’
DESCRIPTION:The proceeds from this event will raise money for Salford Loaves & Fishes.
URL:https://www.ourladyofhope.org.uk/event/mikron-theatre-company-presents-twitchers/
LOCATION:St Luke’s Parish Centre\, Swinton Park Rd\, Irlams o’ th’ Height\, Salford\, M6 7WR
ORGANIZER;CN="Rita":MAILTO:rita@mcnassociates.org.uk
END:VEVENT
END:VCALENDAR