BEGIN:VCALENDAR
VERSION:2.0
PRODID:-//Our Lady Of Hope - ECPv6.15.20//NONSGML v1.0//EN
CALSCALE:GREGORIAN
METHOD:PUBLISH
X-WR-CALNAME:Our Lady Of Hope
X-ORIGINAL-URL:https://www.ourladyofhope.org.uk
X-WR-CALDESC:Events for Our Lady Of Hope
REFRESH-INTERVAL;VALUE=DURATION:PT1H
X-Robots-Tag:noindex
X-PUBLISHED-TTL:PT1H
BEGIN:VTIMEZONE
TZID:UTC
BEGIN:STANDARD
TZOFFSETFROM:+0000
TZOFFSETTO:+0000
TZNAME:UTC
DTSTART:20220101T000000
END:STANDARD
END:VTIMEZONE
BEGIN:VEVENT
DTSTART;TZID=UTC:20240323T160000
DTEND;TZID=UTC:20240323T170000
DTSTAMP:20260421T203233
CREATED:20240315T190502Z
LAST-MODIFIED:20240315T190502Z
UID:1556-1711209600-1711213200@www.ourladyofhope.org.uk
SUMMARY:John Stainer's The Crucifixion
DESCRIPTION:John Stainer’s The Crucifixion A special performance of John Stainer’s The Crucifixion is heading to St Patrick’s Church in Collyhurst this Lent. Taking place on Saturday 23 March at 4pm\, this poignant piece will be performed by Salford Cathedral Choir\, Salford Cathedral Girls’ Choir and the Cambiata Boys’ Choir. \nAll are welcome to attend.
URL:https://www.ourladyofhope.org.uk/event/john-stainers-the-crucifixion/
CATEGORIES:Social Event
END:VEVENT
BEGIN:VEVENT
DTSTART;TZID=UTC:20240322T193000
DTEND;TZID=UTC:20240322T193000
DTSTAMP:20260421T203233
CREATED:20240307T120015Z
LAST-MODIFIED:20240307T120035Z
UID:1542-1711135800-1711135800@www.ourladyofhope.org.uk
SUMMARY:Monton Voices Spring Concert
DESCRIPTION:Monton Voices Spring Concert will be at St Peter and Paul on Friday March 22nd at 7.30. \nThis will be a free concert with a raffle for Choir funds. \nAll welcome !
URL:https://www.ourladyofhope.org.uk/event/monton-voices-spring-concert/
LOCATION:Ss Peter & Paul\, Park Rd\, Pendleton\, M6 8JR
ATTACH;FMTTYPE=image/jpeg:https://www.ourladyofhope.org.uk/wp-content/uploads/2023/04/montonvoices.jpg
END:VEVENT
BEGIN:VEVENT
DTSTART;TZID=UTC:20240322T180000
DTEND;TZID=UTC:20240322T190000
DTSTAMP:20260421T203233
CREATED:20240315T190316Z
LAST-MODIFIED:20240315T190316Z
UID:1554-1711130400-1711134000@www.ourladyofhope.org.uk
SUMMARY:The first meeting of our new parish youth group
DESCRIPTION:Youth Ministry: The first meeting of our new parish youth group will take place on Friday 22 March (6-7pm) in the parish centre at St Luke’s. This is open to young people of high school age (years 7 to 11) and will focus on “Faith\, food and fun!”
URL:https://www.ourladyofhope.org.uk/event/the-first-meeting-of-our-new-parish-youth-group/
LOCATION:St Luke’s Parish Centre\, Swinton Park Rd\, Irlams o’ th’ Height\, Salford\, M6 7WR
CATEGORIES:Parish Group
END:VEVENT
BEGIN:VEVENT
DTSTART;TZID=UTC:20240321T193000
DTEND;TZID=UTC:20240321T193000
DTSTAMP:20260421T203233
CREATED:20240315T190009Z
LAST-MODIFIED:20240315T190036Z
UID:1552-1711049400-1711049400@www.ourladyofhope.org.uk
SUMMARY:Our Lady of Hope Parish Men's Fellowship
DESCRIPTION:Our Lady of Hope Parish Men’s Fellowship invites all men in the\nparish to our next meeting scheduled for this Thursday 21 March\nOur Father Prayer Resources: During this season of Lent\, the Diocese\n2024 at 7.30pm at St Luke’s Church. We look forward to meeting\nof Salford has been sharing a series of short video reflections to help you.
URL:https://www.ourladyofhope.org.uk/event/our-lady-of-hope-parish-mens-fellowship/
LOCATION:St Luke church\, Swinton Park Rd\, Salford\, M6 7WR
CATEGORIES:Parish Group
END:VEVENT
BEGIN:VEVENT
DTSTART;TZID=UTC:20240321T130000
DTEND;TZID=UTC:20240321T150000
DTSTAMP:20260421T203233
CREATED:20240313T212304Z
LAST-MODIFIED:20240313T212304Z
UID:1548-1711026000-1711033200@www.ourladyofhope.org.uk
SUMMARY:Parish Craft Group
DESCRIPTION:The next meeting of the Parish Craft Group will be on Tuesday\, March 21st at StPP 1pm -3pm. \nTea \,coffee and cake always on offer \,all welcome !
URL:https://www.ourladyofhope.org.uk/event/parish-craft-group-3/
LOCATION:Ss Peter & Paul\, Park Rd\, Pendleton\, M6 8JR
END:VEVENT
BEGIN:VEVENT
DTSTART;TZID=UTC:20240316T200000
DTEND;TZID=UTC:20240316T200000
DTSTAMP:20260421T203233
CREATED:20240212T081521Z
LAST-MODIFIED:20240301T133628Z
UID:1480-1710619200-1710619200@www.ourladyofhope.org.uk
SUMMARY:St Patrick’s Celebration with Cracked Flag
DESCRIPTION:St Patrick’s Celebration.\nSaturday\, 8pm\,  16th March\, St Luke’s Parish Centre. \nChildren’s Irish Dancing at 8pm followed by \nLive music \nCracked Flag\nBar open. Raffle. \nTickets £8 (limited number) available at the back of both churches. \n  \n 
URL:https://www.ourladyofhope.org.uk/event/st-patricks-social/
LOCATION:St Luke’s Parish Centre\, Swinton Park Rd\, Irlams o’ th’ Height\, Salford\, M6 7WR
CATEGORIES:Social Event
ATTACH;FMTTYPE=image/jpeg:https://www.ourladyofhope.org.uk/wp-content/uploads/2024/02/crackedflag.jpg
END:VEVENT
BEGIN:VEVENT
DTSTART;TZID=UTC:20240316T133000
DTEND;TZID=UTC:20240316T170000
DTSTAMP:20260421T203233
CREATED:20240210T102405Z
LAST-MODIFIED:20240210T102405Z
UID:1473-1710595800-1710608400@www.ourladyofhope.org.uk
SUMMARY:Ecumenical Quiet Day
DESCRIPTION:Ecumenical Quiet Day: Churches on the Height have organised this for Saturday 16 March (1.30 to 5pm) at the Schoenstatt Shrine in Kearsley. The Venerable Dr John Applegate will give two short talks based on the Gospel stories of Peter as pictured by the artist and priest Sieger Koder. There will be time for personal prayer and reflection\, to visit the shrine\, the gardens or sit and enjoy the views across the Irwell. Tea/coffee provided. There is a suggested donation of £5 per person. They need to know numbers attending by 9 March\, so please let one of the priests know if you wish to attend.
URL:https://www.ourladyofhope.org.uk/event/ecumenical-quiet-day/
LOCATION:Schoenstatt Shrine\, St John Fisher\, Manchester Rd\, Kearsley\, Bolton\, BL4 8QQ
CATEGORIES:Pilgrimage
END:VEVENT
BEGIN:VEVENT
DTSTART;VALUE=DATE:20240316
DTEND;VALUE=DATE:20240317
DTSTAMP:20260421T203233
CREATED:20240217T190650Z
LAST-MODIFIED:20240315T191012Z
UID:1485-1710547200-1710633599@www.ourladyofhope.org.uk
SUMMARY:Stations of the Cross at the Laudato Si' Centre
DESCRIPTION:Stations of the Cross at the Laudato Si’ Centre: The Laudato Si’ Centre at Wardley Hall will be hosting a special Stations of the Cross this Lent. The Stations of the Cross will take place on Saturday 16 March in the beautiful setting of the Centre’s woodland area. \n\n10 – 10.40am (Click here to book your place)\n11 – 11.40am (Click here to book your place)\n12 – 12.40pm (Click here to book your place)
URL:https://www.ourladyofhope.org.uk/event/stations-of-the-cross-at-the-laudato-si-centre/
LOCATION:Laudato ‘Si\, Wardley Hall\, Wardley Hall Rd\, Salford\, M28 2ND
END:VEVENT
BEGIN:VEVENT
DTSTART;TZID=UTC:20240313T193000
DTEND;TZID=UTC:20240313T193000
DTSTAMP:20260421T203233
CREATED:20240306T092950Z
LAST-MODIFIED:20240306T093248Z
UID:1525-1710358200-1710358200@www.ourladyofhope.org.uk
SUMMARY:Deanery Stations Mass at St Luke's
DESCRIPTION:
URL:https://www.ourladyofhope.org.uk/event/deanery-stations-mass-at-st-lukes/
LOCATION:St Luke church\, Swinton Park Rd\, Salford\, M6 7WR
CATEGORIES:Mass/Service
END:VEVENT
BEGIN:VEVENT
DTSTART;TZID=UTC:20240313T103000
DTEND;TZID=UTC:20240313T103000
DTSTAMP:20260421T203233
CREATED:20240306T093118Z
LAST-MODIFIED:20240306T093200Z
UID:1527-1710325800-1710325800@www.ourladyofhope.org.uk
SUMMARY:St. Luke’s UCM (changed time and place)
DESCRIPTION:St. Luke’s UCM next meeting will take place at Toni Kerr’s home at 10.30 am on Wed\, 13 March as Centre in use following Lenten Mass
URL:https://www.ourladyofhope.org.uk/event/st-lukes-ucm-changed-time-and-place/
CATEGORIES:Meeting
END:VEVENT
BEGIN:VEVENT
DTSTART;TZID=UTC:20240311T190000
DTEND;TZID=UTC:20240311T190000
DTSTAMP:20260421T203233
CREATED:20240306T093456Z
LAST-MODIFIED:20240306T093631Z
UID:1529-1710183600-1710183600@www.ourladyofhope.org.uk
SUMMARY:Cenacle to Our Lady Queen of All Hearts (preceded by Mass at 6.30pm)
DESCRIPTION:Cenacle to Our Lady Queen of All Hearts: The cenacle program will be held on every second Monday of the month. Alternated between the two Churches. It will begin with Mass at at 6:30 p.m.
URL:https://www.ourladyofhope.org.uk/event/cenacle-to-our-lady-queen-of-all-hearts-preceded-by-mass-at-6-30pm-2/
LOCATION:Ss Peter & Paul\, Park Rd\, Pendleton\, M6 8JR
END:VEVENT
BEGIN:VEVENT
DTSTART;TZID=UTC:20240307T190000
DTEND;TZID=UTC:20240307T190000
DTSTAMP:20260421T203233
CREATED:20240306T124003Z
LAST-MODIFIED:20240306T124003Z
UID:1531-1709838000-1709838000@www.ourladyofhope.org.uk
SUMMARY:St Peter & Paul UCM
DESCRIPTION:Our next meeting is on Thursday 7th March after the 6.30 mass.\nWe have a guest speaker from Loaves & Fishes. our meeting is open to everybody if you would like to come along.\nOur charity this year is Loaves & Fishes and Caritas.
URL:https://www.ourladyofhope.org.uk/event/st-peter-paul-ucm/
LOCATION:Ss Peter & Paul\, Park Rd\, Pendleton\, M6 8JR
END:VEVENT
BEGIN:VEVENT
DTSTART;VALUE=DATE:20240223
DTEND;VALUE=DATE:20240224
DTSTAMP:20260421T203233
CREATED:20240209T064017Z
LAST-MODIFIED:20240209T064737Z
UID:1466-1708646400-1708732799@www.ourladyofhope.org.uk
SUMMARY:CAFOD Lenten Family Fast Day
DESCRIPTION:CAFOD’s FAMILY Fast Day in Lent is coming up on Friday 23rd February.\nOn this day we are encouraged to eat more simply and to make a donation to CAFOD’s appeal for 2024.\nEnvelopes will be handed out after each mass on 17th & 18th February. These envelopes can be returned the following weekend.\nThis year your donations will help families in coastal areas of Liberia to earn a living by fishing in a safe and sustainable way.\nMore information about CAFOD and it’s work throughout the world can be found on its website: www.cafod.org.uk
URL:https://www.ourladyofhope.org.uk/event/cafof-lenten-family-fast-day/
CATEGORIES:Fundraising
ATTACH;FMTTYPE=image/jpeg:https://www.ourladyofhope.org.uk/wp-content/uploads/2024/02/liberia.jpeg
END:VEVENT
BEGIN:VEVENT
DTSTART;TZID=UTC:20240222T123000
DTEND;TZID=UTC:20240222T140000
DTSTAMP:20260421T203233
CREATED:20240217T190159Z
LAST-MODIFIED:20240217T190159Z
UID:1483-1708605000-1708610400@www.ourladyofhope.org.uk
SUMMARY:Ecumenical Lent Course & Lunch
DESCRIPTION:Ecumenical Lent Course & Lunch: Organised by the Churches on the Height\, these will take place on the Thursdays of Lent (12.30-2pm) using a resource from Christian Aid entitled Act on Poverty. We are hosting the Lunch this week (22 February) at St Luke’s in the Parish Centre. All welcome. P
URL:https://www.ourladyofhope.org.uk/event/ecumenical-lent-course-lunch/
LOCATION:St Luke’s Parish Centre\, Swinton Park Rd\, Irlams o’ th’ Height\, Salford\, M6 7WR
CATEGORIES:Mass/Service
END:VEVENT
BEGIN:VEVENT
DTSTART;TZID=UTC:20240212T190000
DTEND;TZID=UTC:20240212T190000
DTSTAMP:20260421T203233
CREATED:20240207T174355Z
LAST-MODIFIED:20240207T175003Z
UID:1464-1707764400-1707764400@www.ourladyofhope.org.uk
SUMMARY:Cenacle to Our Lady Queen of All Hearts (preceded by Mass at 6.30pm)
DESCRIPTION:Cenacle to Our Lady Queen of All Hearts: The cenacle program will be held on every second Monday of the month. Alternated between the two Churches. It will begin with Mass at at 6:30 p.m.
URL:https://www.ourladyofhope.org.uk/event/cenacle-to-our-lady-queen-of-all-hearts-preceded-by-mass-at-6-30pm/
LOCATION:St Luke church\, Swinton Park Rd\, Salford\, M6 7WR
CATEGORIES:Mass/Service
END:VEVENT
BEGIN:VEVENT
DTSTART;TZID=UTC:20240211T140000
DTEND;TZID=UTC:20240211T170000
DTSTAMP:20260421T203233
CREATED:20240116T161654Z
LAST-MODIFIED:20240207T173022Z
UID:1425-1707660000-1707670800@www.ourladyofhope.org.uk
SUMMARY:A Winter Serenade
DESCRIPTION:    \nA musical afternoon with entertainment provided by our talented parishioners. \nTom O’Donnell \nLulu Yang and Ian Gifford \nIjeoma and Paul Ashton \nEnid Noronha \nEmily McArthur \nTickets available at back of each church and at the door. \nBar open. Proceeds in aid of parish funds
URL:https://www.ourladyofhope.org.uk/event/a-winter-serenade/
LOCATION:St Luke’s Parish Centre\, Swinton Park Rd\, Irlams o’ th’ Height\, Salford\, M6 7WR
CATEGORIES:Social Event
END:VEVENT
BEGIN:VEVENT
DTSTART;TZID=UTC:20240211T080000
DTEND;TZID=UTC:20240211T120000
DTSTAMP:20260421T203233
CREATED:20240207T173934Z
LAST-MODIFIED:20240207T173934Z
UID:1460-1707638400-1707652800@www.ourladyofhope.org.uk
SUMMARY:UCM Cake Sale\, Ss. P&P
DESCRIPTION:We are holding a Cake Sale on Sunday 11 February after the 8am and 11am Masses.
URL:https://www.ourladyofhope.org.uk/event/ucm-cake-sale-ss-pp/
CATEGORIES:Fundraising
END:VEVENT
BEGIN:VEVENT
DTSTART;TZID=UTC:20240209T193000
DTEND;TZID=UTC:20240209T193000
DTSTAMP:20260421T203233
CREATED:20231230T142334Z
LAST-MODIFIED:20231230T143450Z
UID:1299-1707507000-1707507000@www.ourladyofhope.org.uk
SUMMARY:Salford Diocesan Lourdes Pilgrimage Centenary Year Fundraiser - The Mercy Brothers
DESCRIPTION:Salford Diocesan Lourdes Pilgrimage Centenary Year Fundraiser – The Mercy Brothers: Join us for a family-friendly night of musical entertainment with the fabulous ‘Mercy Brothers’ band on Friday 9 February\, 8pm (doors 7.30pm)\, at The Hough End Centre\, Mauldeth Road West\, Chortlon-cum Hardy\, Manchester\, M21 7SX. \nThe band is made up of members of the clergy from around the diocese. Tickets are priced at £15 (over 16s) and free for under 16s. Money raised will go to the Centenary Pilgrimage Fund and in support of our sick pilgrims and medical team. To book please visit www.salfordlourdes.co.uk/fundraising or phone the pilgrimage office on 0161 817 2209.
URL:https://www.ourladyofhope.org.uk/event/salford-diocesan-lourdes-pilgrimage-centenary-year-fundraiser-the-mercy-brothers/
LOCATION:The Hough End Centre\, Mauldeth Road West\, Chortlon-cum Hardy\, Manchester\, M21 7SX
CATEGORIES:Fundraising,Social Event
ATTACH;FMTTYPE=image/jpeg:https://www.ourladyofhope.org.uk/wp-content/uploads/2023/12/Mercy-Brothers.jpeg
END:VEVENT
BEGIN:VEVENT
DTSTART;TZID=UTC:20240207T190000
DTEND;TZID=UTC:20240207T190000
DTSTAMP:20260421T203233
CREATED:20240207T174133Z
LAST-MODIFIED:20240207T174133Z
UID:1462-1707332400-1707332400@www.ourladyofhope.org.uk
SUMMARY:PACT Meeting: Strategy and Governance Group
DESCRIPTION:There is a meeting of the Strategy and Governance Group this Wednesday at 7pm at St Luke’s.
URL:https://www.ourladyofhope.org.uk/event/pact-meeting-strategy-and-governance-group/
CATEGORIES:Meeting
END:VEVENT
BEGIN:VEVENT
DTSTART;TZID=UTC:20240131T000000
DTEND;TZID=UTC:20240131T000000
DTSTAMP:20260421T203233
CREATED:20231230T142105Z
LAST-MODIFIED:20231230T142105Z
UID:1297-1706659200-1706659200@www.ourladyofhope.org.uk
SUMMARY:Flower Arranging
DESCRIPTION:Flower Arranging: There will be no flower arranging classes until Wednesday 31 January 2024
URL:https://www.ourladyofhope.org.uk/event/flower-arranging/
LOCATION:Ss Peter & Paul\, Park Rd\, Pendleton\, M6 8JR
CATEGORIES:Meeting
END:VEVENT
BEGIN:VEVENT
DTSTART;TZID=UTC:20240130T130000
DTEND;TZID=UTC:20240130T150000
DTSTAMP:20260421T203233
CREATED:20240116T161951Z
LAST-MODIFIED:20240116T164100Z
UID:1427-1706619600-1706626800@www.ourladyofhope.org.uk
SUMMARY:Parish Craft Group
DESCRIPTION:The next meeting of the Parish Craft Group will be on Tuesday January 30th at St Peter and Paul 1-3pm. There will be tea\, coffee and cake plus a chance to laugh\, learn and share new skills. All welcome !
URL:https://www.ourladyofhope.org.uk/event/parish-craft-group-2/
LOCATION:Ss Peter & Paul\, Park Rd\, Pendleton\, M6 8JR
CATEGORIES:Parish Group
END:VEVENT
BEGIN:VEVENT
DTSTART;TZID=UTC:20240115T190000
DTEND;TZID=UTC:20240115T210000
DTSTAMP:20260421T203233
CREATED:20240109T092310Z
LAST-MODIFIED:20240109T092337Z
UID:1330-1705345200-1705352400@www.ourladyofhope.org.uk
SUMMARY:Social and Community Group Meeting
DESCRIPTION:Social and Community Group. Next meeting Monday 15 January at 7pm\, St P&P. We will be discussing our forthcoming events\, if you would like to help support your Parish and community please come along and have a cup of tea with us. All welcome!
URL:https://www.ourladyofhope.org.uk/event/social-and-community-group-meeting/
LOCATION:Ss Peter & Paul\, Park Rd\, Pendleton\, M6 8JR
CATEGORIES:Parish Group
END:VEVENT
BEGIN:VEVENT
DTSTART;TZID=UTC:20240110T190000
DTEND;TZID=UTC:20240110T190000
DTSTAMP:20260421T203233
CREATED:20240103T111948Z
LAST-MODIFIED:20240103T112043Z
UID:1312-1704913200-1704913200@www.ourladyofhope.org.uk
SUMMARY:UCM St Luke's
DESCRIPTION:7 pm Wed\, 10 January 2024 St. Luke’s UCM meeting in Parish Centre – all welcome
URL:https://www.ourladyofhope.org.uk/event/ucm-st-lukes/
LOCATION:St Luke’s Parish Centre\, Swinton Park Rd\, Irlams o’ th’ Height\, Salford\, M6 7WR
CATEGORIES:Meeting
END:VEVENT
BEGIN:VEVENT
DTSTART;TZID=UTC:20240108T190000
DTEND;TZID=UTC:20240108T194500
DTSTAMP:20260421T203233
CREATED:20231125T111236Z
LAST-MODIFIED:20240102T184305Z
UID:1260-1704740400-1704743100@www.ourladyofhope.org.uk
SUMMARY:Cenacle to Our Lady Queen of All Hearts (preceded by Mass at 6.30pm)
DESCRIPTION:Cenacle to Our Lady Queen of All Hearts: The cenacle program will be held on every second Monday of the month. Alternated between the two Churches. It will begin with Mass at at 6:30 p.m. This Monday is The feast of the Baptism of The Lord.
URL:https://www.ourladyofhope.org.uk/event/cenacle-to-our-lady-queen-of-all-hearts-3/
LOCATION:Ss Peter & Paul\, Park Rd\, Pendleton\, M6 8JR
CATEGORIES:Mass/Service
ATTACH;FMTTYPE=image/jpeg:https://www.ourladyofhope.org.uk/wp-content/uploads/2023/08/ourladyofhopepainting-square.jpg
END:VEVENT
BEGIN:VEVENT
DTSTART;TZID=UTC:20240104T190000
DTEND;TZID=UTC:20240104T190000
DTSTAMP:20260421T203233
CREATED:20231230T141702Z
LAST-MODIFIED:20240103T112356Z
UID:1295-1704394800-1704394800@www.ourladyofhope.org.uk
SUMMARY:UCM Ss Peter & Paul
DESCRIPTION:UCM (SsPP): Our next meeting will be on Thursday 4 January 2024 after the 6.30pm Mass. Everybody welcome
URL:https://www.ourladyofhope.org.uk/event/ucm-ss-peter-paul/
LOCATION:Ss Peter & Paul\, Park Rd\, Pendleton\, M6 8JR
CATEGORIES:Meeting
END:VEVENT
BEGIN:VEVENT
DTSTART;TZID=UTC:20231217T180000
DTEND;TZID=UTC:20231217T200000
DTSTAMP:20260421T203233
CREATED:20230429T065325Z
LAST-MODIFIED:20230515T162410Z
UID:639-1702836000-1702843200@www.ourladyofhope.org.uk
SUMMARY:Carol concert
DESCRIPTION:
URL:https://www.ourladyofhope.org.uk/event/carol-concert/
LOCATION:St Luke church\, Swinton Park Rd\, Salford\, M6 7WR
CATEGORIES:Mass/Service
END:VEVENT
BEGIN:VEVENT
DTSTART;TZID=UTC:20231216T120000
DTEND;TZID=UTC:20231216T150000
DTSTAMP:20260421T203233
CREATED:20230429T065203Z
LAST-MODIFIED:20230923T085317Z
UID:637-1702728000-1702738800@www.ourladyofhope.org.uk
SUMMARY:Mass and blessing followed by Afternoon tea
DESCRIPTION:The mass will be at 12 noon\, followed by afternoon tea in the parish hall\n(There will be no Saturday 12 noon Mass at SS. Peter and Pauls  on that day )
URL:https://www.ourladyofhope.org.uk/event/mass-and-blessing-followed-by-afternoon-tea/
LOCATION:St Luke church\, Swinton Park Rd\, Salford\, M6 7WR
CATEGORIES:Mass/Service
END:VEVENT
BEGIN:VEVENT
DTSTART;TZID=UTC:20231211T190000
DTEND;TZID=UTC:20231211T193000
DTSTAMP:20260421T203233
CREATED:20231103T093346Z
LAST-MODIFIED:20231126T063708Z
UID:1169-1702321200-1702323000@www.ourladyofhope.org.uk
SUMMARY:Cenacle to Our Lady Queen of All Hearts
DESCRIPTION:Cenacle to Our Lady Queen of All Hearts: The cenacle program will be held on every second Monday of the month. Alternated between the two Churches. It will begin with an exposition of the Blessed Sacrament at 6:30 p.m.\, but prayers will begin officially at 7 pm.
URL:https://www.ourladyofhope.org.uk/event/cenacle-to-our-lady-queen-of-all-hearts-2/
LOCATION:St Luke church\, Swinton Park Rd\, Salford\, M6 7WR
CATEGORIES:Cenacle,Mass/Service
ATTACH;FMTTYPE=image/jpeg:https://www.ourladyofhope.org.uk/wp-content/uploads/2023/11/Blessed_Virgin_Mary.jpg
END:VEVENT
BEGIN:VEVENT
DTSTART;TZID=UTC:20231205T103000
DTEND;TZID=UTC:20231205T113000
DTSTAMP:20260421T203233
CREATED:20231203T081201Z
LAST-MODIFIED:20231203T081201Z
UID:1276-1701772200-1701775800@www.ourladyofhope.org.uk
SUMMARY:Three Schools Carol Service
DESCRIPTION:This annual event brings together pupils from St John’s\, St Luke’s and Summerville and takes place in St Luke’s Church at 10.30am on Tuesday. All are welcome to come along.
URL:https://www.ourladyofhope.org.uk/event/three-schools-carol-service/
CATEGORIES:Mass/Service
END:VEVENT
BEGIN:VEVENT
DTSTART;VALUE=DATE:20231202
DTEND;VALUE=DATE:20231203
DTSTAMP:20260421T203233
CREATED:20230429T064819Z
LAST-MODIFIED:20231103T093632Z
UID:635-1701475200-1701561599@www.ourladyofhope.org.uk
SUMMARY:Christmas Fair
DESCRIPTION:The Christmas Fair will be on 2 December in the Parish Centre. If you are able to provide a prize for the Christmas Draw\, please sign the sheet in the porch at both churches. Proceeds as usual to be shared between the Parish and School. Many thanks for your support!
URL:https://www.ourladyofhope.org.uk/event/christmas-fair/
LOCATION:St Luke’s Parish Centre\, Swinton Park Rd\, Irlams o’ th’ Height\, Salford\, M6 7WR
CATEGORIES:Fundraising
END:VEVENT
END:VCALENDAR