BEGIN:VCALENDAR
VERSION:2.0
PRODID:-//Our Lady Of Hope - ECPv6.15.20//NONSGML v1.0//EN
CALSCALE:GREGORIAN
METHOD:PUBLISH
X-WR-CALNAME:Our Lady Of Hope
X-ORIGINAL-URL:https://www.ourladyofhope.org.uk
X-WR-CALDESC:Events for Our Lady Of Hope
REFRESH-INTERVAL;VALUE=DURATION:PT1H
X-Robots-Tag:noindex
X-PUBLISHED-TTL:PT1H
BEGIN:VTIMEZONE
TZID:UTC
BEGIN:STANDARD
TZOFFSETFROM:+0000
TZOFFSETTO:+0000
TZNAME:UTC
DTSTART:20230101T000000
END:STANDARD
END:VTIMEZONE
BEGIN:VEVENT
DTSTART;TZID=UTC:20251221T173000
DTEND;TZID=UTC:20251221T193000
DTSTAMP:20260421T232754
CREATED:20250128T205301Z
LAST-MODIFIED:20250128T205530Z
UID:2564-1766338200-1766345400@www.ourladyofhope.org.uk
SUMMARY:Carol Concert
DESCRIPTION:
URL:https://www.ourladyofhope.org.uk/event/carol-concert-3/
LOCATION:St Luke church\, Swinton Park Rd\, Salford\, M6 7WR
CATEGORIES:Mass/Service
END:VEVENT
BEGIN:VEVENT
DTSTART;TZID=UTC:20251220T113000
DTEND;TZID=UTC:20251220T130000
DTSTAMP:20260421T232754
CREATED:20251202T075130Z
LAST-MODIFIED:20251202T075130Z
UID:2911-1766230200-1766235600@www.ourladyofhope.org.uk
SUMMARY:Carols Singing at Aldi
DESCRIPTION:
URL:https://www.ourladyofhope.org.uk/event/carols-singing-at-aldi/
END:VEVENT
BEGIN:VEVENT
DTSTART;TZID=UTC:20251213T120000
DTEND;TZID=UTC:20251213T120000
DTSTAMP:20260421T232754
CREATED:20250128T205449Z
LAST-MODIFIED:20250128T210030Z
UID:2566-1765627200-1765627200@www.ourladyofhope.org.uk
SUMMARY:Mass for the Sick\, Elderly and Housebound
DESCRIPTION:12 noon Mass\, Ss Peter &Paul Church\nThe Sacrament of the Anointing of the Sick will be offered during this Mass \nRefreshments will be served after Mass.\nContact – Mrs Kath Playfair\n0161 707 1185
URL:https://www.ourladyofhope.org.uk/event/mass-for-the-sickelderly-and-housebound/
LOCATION:Ss Peter & Paul\, Park Rd\, Pendleton\, M6 8JR
CATEGORIES:Mass/Service
ORGANIZER;CN="Kathleen Henderson-Playfair":MAILTO:K18ucm@gmail.com
END:VEVENT
BEGIN:VEVENT
DTSTART;TZID=UTC:20251207T150000
DTEND;TZID=UTC:20251207T160000
DTSTAMP:20260421T232754
CREATED:20251202T074904Z
LAST-MODIFIED:20251202T074904Z
UID:2909-1765119600-1765123200@www.ourladyofhope.org.uk
SUMMARY:Carols In The Park
DESCRIPTION:Light Oaks Park
URL:https://www.ourladyofhope.org.uk/event/carols-in-the-park/
END:VEVENT
BEGIN:VEVENT
DTSTART;TZID=UTC:20251129T130000
DTEND;TZID=UTC:20251129T150000
DTSTAMP:20260421T232754
CREATED:20250128T205657Z
LAST-MODIFIED:20250128T205657Z
UID:2569-1764421200-1764428400@www.ourladyofhope.org.uk
SUMMARY:Christmas Fair
DESCRIPTION:Parish Christmas fair\n1-3pm\, Parish Centre\nContact\, Joan Sweeney\, 07787 526972
URL:https://www.ourladyofhope.org.uk/event/christmas-fair-3/
LOCATION:St Luke’s Parish Centre\, Swinton Park Rd\, Irlams o’ th’ Height\, Salford\, M6 7WR
CATEGORIES:Fundraising
END:VEVENT
BEGIN:VEVENT
DTSTART;TZID=UTC:20251115T193000
DTEND;TZID=UTC:20251115T223000
DTSTAMP:20260421T232754
CREATED:20251025T170224Z
LAST-MODIFIED:20251025T170224Z
UID:2902-1763235000-1763245800@www.ourladyofhope.org.uk
SUMMARY:JIMMY CRICKET 'WELCOME BACK FROM THE STORM'
DESCRIPTION:WELCOME BACK FROM THE STORM\nJIMMY CRICKET with Jim Nicholas\, May Marion\nA show of MUSIC and LAUCHTER\nRaising funds in support of Francis House Children’s Hospice\nSaturday 15th November 7.30-10.30\nOur Lady of Hope Parish Centre\nTickets £12.00 Including supper
URL:https://www.ourladyofhope.org.uk/event/jimmy-cricket-welcome-back-from-the-storm/
CATEGORIES:Social Event
ATTACH;FMTTYPE=image/jpeg:https://www.ourladyofhope.org.uk/wp-content/uploads/2025/10/IMG_0710-scaled.jpg
END:VEVENT
BEGIN:VEVENT
DTSTART;TZID=UTC:20250629T140000
DTEND;TZID=UTC:20250629T160000
DTSTAMP:20260421T232754
CREATED:20250128T205856Z
LAST-MODIFIED:20250128T205856Z
UID:2571-1751205600-1751212800@www.ourladyofhope.org.uk
SUMMARY:Summer Fair
DESCRIPTION:Parish Summer Fair\n2-4pm\, Ss Peter and Paul Church\nContact – Joan Sweeney 07787 526972
URL:https://www.ourladyofhope.org.uk/event/summer-fair-2/
LOCATION:Ss Peter & Paul\, Park Rd\, Pendleton\, M6 8JR
CATEGORIES:Fundraising
END:VEVENT
BEGIN:VEVENT
DTSTART;TZID=UTC:20250515T080000
DTEND;TZID=UTC:20250517T170000
DTSTAMP:20260421T232754
CREATED:20240925T052708Z
LAST-MODIFIED:20240925T052708Z
UID:2267-1747296000-1747501200@www.ourladyofhope.org.uk
SUMMARY:Diocesan Pilgrimage to Lindisfarne
DESCRIPTION:Diocesan Pilgrimage to Lindisfarne: Discover the fascinating history of our Northern Saints with this one-off pilgrimage to Lindisfarne\, Ripon\, and Durham in celebration of our 2025 Year of Jubilee. Led by Bishop John\, the pilgrimage will take place between 15th-17th May 2025. Find out more about this and all of our pilgrimages during our Jubilee year at https://dioceseofsalford.org.uk/news/jubilee-2025/pilgrimages/
URL:https://www.ourladyofhope.org.uk/event/diocesan-pilgrimage-to-lindisfarne/
LOCATION:Lindisfarne\, Lindisfarne\, United Kingdom
CATEGORIES:Pilgrimage
END:VEVENT
BEGIN:VEVENT
DTSTART;TZID=UTC:20250514T193000
DTEND;TZID=UTC:20250514T193000
DTSTAMP:20260421T232754
CREATED:20250128T210218Z
LAST-MODIFIED:20250131T103159Z
UID:2574-1747251000-1747251000@www.ourladyofhope.org.uk
SUMMARY:Mikron Theatre - Operation Beach Hut
DESCRIPTION:Operation Beach Hut\nMikron Touring Theatre Company\n7.30pm\, Ss Peter & Paul Church
URL:https://www.ourladyofhope.org.uk/event/mikron-theatre-operation-beach-hut/
LOCATION:Ss Peter & Paul\, Park Rd\, Pendleton\, M6 8JR
CATEGORIES:Fundraising,Social Event
END:VEVENT
BEGIN:VEVENT
DTSTART;TZID=UTC:20250503T000000
DTEND;TZID=UTC:20250503T230000
DTSTAMP:20260421T232754
CREATED:20250228T123125Z
LAST-MODIFIED:20250228T123125Z
UID:2655-1746230400-1746313200@www.ourladyofhope.org.uk
SUMMARY:Annual Diocesan Pilgrimage to Walsingham
DESCRIPTION:
URL:https://www.ourladyofhope.org.uk/event/annual-diocesan-pilgrimage-to-walsingham/
CATEGORIES:Pilgrimage
END:VEVENT
BEGIN:VEVENT
DTSTART;TZID=UTC:20250410T191500
DTEND;TZID=UTC:20250410T201500
DTSTAMP:20260421T232754
CREATED:20250312T113808Z
LAST-MODIFIED:20250312T113902Z
UID:2751-1744312500-1744316100@www.ourladyofhope.org.uk
SUMMARY:Lent Talk: Holy Week and the Triduum
DESCRIPTION:Deacon Paul will discuss \n\nHoly Week\, specifically some interesting details about Palm Sunday\, Holy Monday\, Holy Tuesday\, Holy Wednesday\, and Holy Thursday.\nthe Sacred Triduum\, specifically some interesting details about the Last Supper\, Good Friday\, Holy Saturday\, and the Easter Vigil.\nthe origins of the word Easter\, and how its date is determined each year.
URL:https://www.ourladyofhope.org.uk/event/lent-talk-holy-week-and-the-triduum/
CATEGORIES:Meeting
END:VEVENT
BEGIN:VEVENT
DTSTART;TZID=UTC:20250329T100000
DTEND;TZID=UTC:20250329T160000
DTSTAMP:20260421T232754
CREATED:20250219T115003Z
LAST-MODIFIED:20250219T115003Z
UID:2647-1743242400-1743264000@www.ourladyofhope.org.uk
SUMMARY:Day Retreat for Lent
DESCRIPTION:Speakers: John Hesketh & Daniella Stephens \n12 Noon Mass \nTalks\, Praise & Worship\, Adoration \nLunch provided. Tea & Coffee available
URL:https://www.ourladyofhope.org.uk/event/day-retreat-for-lent/
LOCATION:Ss Peter & Paul\, Park Rd\, Pendleton\, M6 8JR
CATEGORIES:Mass/Service
END:VEVENT
BEGIN:VEVENT
DTSTART;TZID=UTC:20250328T193000
DTEND;TZID=UTC:20250328T193000
DTSTAMP:20260421T232754
CREATED:20250128T210438Z
LAST-MODIFIED:20250312T114913Z
UID:2576-1743190200-1743190200@www.ourladyofhope.org.uk
SUMMARY:Monton Voices Concert
DESCRIPTION:An evening of musical theatre from the Golden Age to the Silver Screen \nEntrance will be a donation for St Ann’s Hospice \nAll welcome .
URL:https://www.ourladyofhope.org.uk/event/monton-voices-concert-2/
LOCATION:Ss Peter & Paul\, Park Rd\, Pendleton\, M6 8JR
CATEGORIES:Fundraising,Social Event
END:VEVENT
BEGIN:VEVENT
DTSTART;TZID=UTC:20250327T191500
DTEND;TZID=UTC:20250327T191500
DTSTAMP:20260421T232754
CREATED:20250312T113612Z
LAST-MODIFIED:20250312T113935Z
UID:2748-1743102900-1743102900@www.ourladyofhope.org.uk
SUMMARY:Lent Talk: City of Jerusalem
DESCRIPTION:We will watch a short video about the city. \nDeacon Paul will then discuss aspects of the city\, such as its geographical location and its topology\, before discussing the significance of the city for the Jewish\, Christian\, and Muslim people.
URL:https://www.ourladyofhope.org.uk/event/lent-talk-city-of-jerusalem/
LOCATION:Ss Peter & Paul\, Park Rd\, Pendleton\, M6 8JR
CATEGORIES:Meeting
END:VEVENT
BEGIN:VEVENT
DTSTART;TZID=UTC:20250321T180000
DTEND;TZID=UTC:20250321T180000
DTSTAMP:20260421T232754
CREATED:20250312T114343Z
LAST-MODIFIED:20250312T114437Z
UID:2759-1742580000-1742580000@www.ourladyofhope.org.uk
SUMMARY:Drum Group
DESCRIPTION:This is for all ages\, young people and adults.
URL:https://www.ourladyofhope.org.uk/event/drum-group/
CATEGORIES:Youth
END:VEVENT
BEGIN:VEVENT
DTSTART;TZID=UTC:20250320T191500
DTEND;TZID=UTC:20250320T201500
DTSTAMP:20260421T232754
CREATED:20250312T113410Z
LAST-MODIFIED:20250312T114003Z
UID:2746-1742498100-1742501700@www.ourladyofhope.org.uk
SUMMARY:Lent Talk: Relics of Jesus
DESCRIPTION:We will watch a short video about relics from Bishop Robert Barron. \nDeacon Paul will discuss what relics are before talking in depth about the Shroud of Turin\, the relics of Jesus retrieved from the Holy Land by the mother of Emperor Constantine\, Saint Helena\, and other notable relics of Jesus.
URL:https://www.ourladyofhope.org.uk/event/lent-talk-relics-of-jesus/
CATEGORIES:Meeting
END:VEVENT
BEGIN:VEVENT
DTSTART;TZID=UTC:20250314T180000
DTEND;TZID=UTC:20250314T190000
DTSTAMP:20260421T232754
CREATED:20250312T114149Z
LAST-MODIFIED:20250312T114149Z
UID:2757-1741975200-1741978800@www.ourladyofhope.org.uk
SUMMARY:Children & Youth Choir
DESCRIPTION:https://www.ourladyofhope.org.uk/children-and-youth-choir/
URL:https://www.ourladyofhope.org.uk/event/children-youth-choir/
LOCATION:St Luke church\, Swinton Park Rd\, Salford\, M6 7WR
CATEGORIES:Youth
END:VEVENT
BEGIN:VEVENT
DTSTART;TZID=UTC:20250313T191500
DTEND;TZID=UTC:20250313T201500
DTSTAMP:20260421T232754
CREATED:20250312T113022Z
LAST-MODIFIED:20250312T113030Z
UID:2744-1741893300-1741896900@www.ourladyofhope.org.uk
SUMMARY:Lent Talk: Passion\, Death\, and Resurrection of Jesus
DESCRIPTION:Deacon Paul will discuss \n\nJesus’ Passion\, specifically the Garden of Gethsemane\, The Church of Saint Peter in Gallicantu\, Jesus and Pontius Pilate\, and the Praetorium.\nJesus’ Crucifixion\, specifically what crucifixion is\, the Jewish sacrifices\, penal substitution\, and the I.N.R.I. signs on our personal crucifixes.\nJesus’ Death\, specifically the year that Jesus died\, the cause of Jesus’ death\, the Pietà\, the tomb\, and Jesus’ descent into hell.\nSeven reasons for Jesus’ Resurrection.
URL:https://www.ourladyofhope.org.uk/event/lent-talk-passion-death-and-resurrection-of-jesus/
LOCATION:Ss Peter & Paul\, Park Rd\, Pendleton\, M6 8JR
CATEGORIES:Meeting
END:VEVENT
BEGIN:VEVENT
DTSTART;TZID=UTC:20250307T000000
DTEND;TZID=UTC:20250307T235900
DTSTAMP:20260421T232754
CREATED:20250228T122159Z
LAST-MODIFIED:20250228T122514Z
UID:2652-1741305600-1741391940@www.ourladyofhope.org.uk
SUMMARY:World Day of Prayer 2025
DESCRIPTION:This year the World Day of Prayer service in this area is on Friday 7th March 2pm at St. James and All Souls Church\, Pendleton Way\, Salford M6 5JA. \nAll welcome. Please also our see notice board.
URL:https://www.ourladyofhope.org.uk/event/world-day-of-prayer-2025/
LOCATION:St James and All Souls Church\, Pendleton Way\, Salford\, M6 5JA\, United Kingdom
CATEGORIES:Mass/Service
END:VEVENT
BEGIN:VEVENT
DTSTART;TZID=UTC:20250221T180000
DTEND;TZID=UTC:20250221T190000
DTSTAMP:20260421T232754
CREATED:20250219T115719Z
LAST-MODIFIED:20250219T115719Z
UID:2649-1740160800-1740164400@www.ourladyofhope.org.uk
SUMMARY:Drum Group - beginners
DESCRIPTION:Young people\, parents and in fact anyone who wishes to learn \nDrums and percussion provided. \nSt Augustine said “Qui bene cantat bis orat” “He who sings prays twice” \nKing David\, sang and played the harp in praise of God (Psalm 150:3-6) – making music with voice and instrument is a powerful form of worship — body\, mind\, and soul united in prayer. \n 
URL:https://www.ourladyofhope.org.uk/event/drum-group-beginners/
LOCATION:St Luke church\, Swinton Park Rd\, Salford\, M6 7WR
CATEGORIES:Parish Group,Youth
END:VEVENT
BEGIN:VEVENT
DTSTART;TZID=UTC:20250206T183000
DTEND;TZID=UTC:20250206T183000
DTSTAMP:20260421T232754
CREATED:20250128T205102Z
LAST-MODIFIED:20250128T210710Z
UID:2562-1738866600-1738866600@www.ourladyofhope.org.uk
SUMMARY:St Peter & Paul’s Foundation UCM AGM
DESCRIPTION:Our AGM is Thursday 6th February after the 6.30pm Mass.\nAll ladies of the Parish are very welcome to attend
URL:https://www.ourladyofhope.org.uk/event/st-peter-pauls-foundation-ucm-agm/
LOCATION:Ss Peter & Paul\, Park Rd\, Pendleton\, M6 8JR
CATEGORIES:Meeting,Parish Group
END:VEVENT
BEGIN:VEVENT
DTSTART;TZID=UTC:20241222T173000
DTEND;TZID=UTC:20241222T173000
DTSTAMP:20260421T232754
CREATED:20240301T182052Z
LAST-MODIFIED:20241213T201310Z
UID:1521-1734888600-1734888600@www.ourladyofhope.org.uk
SUMMARY:Carol Concert
DESCRIPTION:
URL:https://www.ourladyofhope.org.uk/event/carol-concert-2/
LOCATION:St Luke church\, Swinton Park Rd\, Salford\, M6 7WR
CATEGORIES:Mass/Service
END:VEVENT
BEGIN:VEVENT
DTSTART;TZID=UTC:20241213T180000
DTEND;TZID=UTC:20241213T190000
DTSTAMP:20260421T232754
CREATED:20241109T104928Z
LAST-MODIFIED:20241109T105658Z
UID:2393-1734112800-1734116400@www.ourladyofhope.org.uk
SUMMARY:Children and Youth Choir Rehearsal
DESCRIPTION:
URL:https://www.ourladyofhope.org.uk/event/children-and-youth-choir-rehearsal/
LOCATION:St Luke church\, Swinton Park Rd\, Salford\, M6 7WR
CATEGORIES:Parish Group,Youth
END:VEVENT
BEGIN:VEVENT
DTSTART;TZID=UTC:20241207T120000
DTEND;TZID=UTC:20241207T120000
DTSTAMP:20260421T232754
CREATED:20241109T104654Z
LAST-MODIFIED:20241109T110411Z
UID:2391-1733572800-1733572800@www.ourladyofhope.org.uk
SUMMARY:Mass and Blessing of the sick and housebound
DESCRIPTION:
URL:https://www.ourladyofhope.org.uk/event/mass-and-blessing-of-the-sick-and-housebound/
LOCATION:Ss Peter & Paul\, Park Rd\, Pendleton\, M6 8JR
CATEGORIES:Mass/Service
END:VEVENT
BEGIN:VEVENT
DTSTART;TZID=UTC:20241130T000000
DTEND;TZID=UTC:20241130T000000
DTSTAMP:20260421T232754
CREATED:20240301T181824Z
LAST-MODIFIED:20240301T181824Z
UID:1519-1732924800-1732924800@www.ourladyofhope.org.uk
SUMMARY:Christmas Fair
DESCRIPTION:
URL:https://www.ourladyofhope.org.uk/event/christmas-fair-2/
LOCATION:St Luke’s Parish Centre\, Swinton Park Rd\, Irlams o’ th’ Height\, Salford\, M6 7WR
END:VEVENT
BEGIN:VEVENT
DTSTART;TZID=UTC:20241116T000000
DTEND;TZID=UTC:20241116T000000
DTSTAMP:20260421T232754
CREATED:20240301T181614Z
LAST-MODIFIED:20240301T181614Z
UID:1517-1731715200-1731715200@www.ourladyofhope.org.uk
SUMMARY:Elvis Night
DESCRIPTION:More details nearer the time
URL:https://www.ourladyofhope.org.uk/event/elvis-night-2/
END:VEVENT
BEGIN:VEVENT
DTSTART;TZID=UTC:20241114T193000
DTEND;TZID=UTC:20241114T193000
DTSTAMP:20260421T232754
CREATED:20241108T131613Z
LAST-MODIFIED:20241109T110303Z
UID:2360-1731612600-1731612600@www.ourladyofhope.org.uk
SUMMARY:Men's Fellowship Meeting
DESCRIPTION:We wish to warmly invite you to join us for our Men’s Fellowship at St Lukes Church on Thursday 14th November\, 2024 at 7:30pm. Do join us in building a community where the men of  Our Lady of Hope Parish can come to pray\, share and grow in faith\, chat with like-minded individuals\, and build positive relationships strengthened by a love only God can provide. For further information\, please contact Ian (icgifford@hotmail.com) or Calli (calli.onyebuchibe@outlook.com).
URL:https://www.ourladyofhope.org.uk/event/mens-fellowship-meeting/
LOCATION:St Luke church\, Swinton Park Rd\, Salford\, M6 7WR
CATEGORIES:Parish Group
END:VEVENT
BEGIN:VEVENT
DTSTART;TZID=UTC:20241108T080000
DTEND;TZID=UTC:20241108T170000
DTSTAMP:20260421T232754
CREATED:20241025T200308Z
LAST-MODIFIED:20241025T200926Z
UID:2342-1731052800-1731085200@www.ourladyofhope.org.uk
SUMMARY:Young Persons Choir - first meeting and rehearsal
DESCRIPTION:We are starting a choir for the youth and children of the parish. The first meeting and rehearsal will be on Friday\, 8th November at 6pm to 7pm at St. Luke’s church. \nThe young persons choir will meet the first Friday of each month. The choir is for ages  7  to 16. \nThe first and second meetings will be an easy introduction to singing and will focus on well known Christmas Carols.
URL:https://www.ourladyofhope.org.uk/event/young-persons-choir-first-meeting/
LOCATION:St Luke church\, Swinton Park Rd\, Salford\, M6 7WR
CATEGORIES:Parish Group,Youth
ORGANIZER;CN="Paul Ashton":MAILTO:music@ourladyofhope.org.uk
END:VEVENT
BEGIN:VEVENT
DTSTART;TZID=UTC:20241026T113000
DTEND;TZID=UTC:20241026T160000
DTSTAMP:20260421T232754
CREATED:20240925T063005Z
LAST-MODIFIED:20241004T180620Z
UID:2278-1729942200-1729958400@www.ourladyofhope.org.uk
SUMMARY:Gregorian Chant Workshop for Singers
DESCRIPTION:Gregorian Chant Workshop for Singers: A popular choral workshop is returning to St Augustine’s in Manchester with a particular focus on Our Lady. The event\, led by Manchester University lecturer Dr Rosemarie Darby\, will take place on Saturday 26th October between 11.30am and 4pm at St Augustine’s church\, Manchester. It is of particular interest to parish choirs who wish to expand their repertoire of Marian music. No prior experience is required but registration is essential by emailing stphilipnerisingers@yahoo.co.uk
URL:https://www.ourladyofhope.org.uk/event/gregorian-chant-workshop-for-singers/
CATEGORIES:Meeting
END:VEVENT
BEGIN:VEVENT
DTSTART;TZID=UTC:20241013T193000
DTEND;TZID=UTC:20241013T213000
DTSTAMP:20260421T232754
CREATED:20240925T053428Z
LAST-MODIFIED:20240925T053947Z
UID:2270-1728847800-1728855000@www.ourladyofhope.org.uk
SUMMARY:MIKRON Show: ‘Common Ground’
DESCRIPTION:MIKRON Show: ‘Common Ground’ A Play about rambling and our rights of way. \nThe MIKRON Theatre Company are returning to St Peter & Paul’s Church\, October 16th at 7.30pm-9.30pm. \nAll proceeds will be for Parish funds – \nTickets £13.00. To reserve tickets contact Rita McNamara by email rita@mcnassociates.org.uk or Mobile 07793206251\, or book online
URL:https://www.ourladyofhope.org.uk/event/mikron-show-common-ground/
CATEGORIES:Fundraising,Social Event
ORGANIZER;CN="Rita":MAILTO:rita@mcnassociates.org.uk
END:VEVENT
END:VCALENDAR