BEGIN:VCALENDAR
VERSION:2.0
PRODID:-//Our Lady Of Hope - ECPv6.15.20//NONSGML v1.0//EN
CALSCALE:GREGORIAN
METHOD:PUBLISH
X-ORIGINAL-URL:https://www.ourladyofhope.org.uk
X-WR-CALDESC:Events for Our Lady Of Hope
REFRESH-INTERVAL;VALUE=DURATION:PT1H
X-Robots-Tag:noindex
X-PUBLISHED-TTL:PT1H
BEGIN:VTIMEZONE
TZID:UTC
BEGIN:STANDARD
TZOFFSETFROM:+0000
TZOFFSETTO:+0000
TZNAME:UTC
DTSTART:20250101T000000
END:STANDARD
END:VTIMEZONE
BEGIN:VEVENT
DTSTART;TZID=UTC:20260612T190000
DTEND;TZID=UTC:20260612T190000
DTSTAMP:20260421T215547
CREATED:20260302T181810Z
LAST-MODIFIED:20260302T181900Z
UID:3951-1781290800-1781290800@www.ourladyofhope.org.uk
SUMMARY:Quiz Night
DESCRIPTION:with Andrew Martin
URL:https://www.ourladyofhope.org.uk/event/quiz-night/
LOCATION:St Luke’s Parish Centre\, Swinton Park Rd\, Irlams o’ th’ Height\, Salford\, M6 7WR
CATEGORIES:Fundraising,Social Event
END:VEVENT
BEGIN:VEVENT
DTSTART;TZID=UTC:20260628T140000
DTEND;TZID=UTC:20260628T160000
DTSTAMP:20260421T215547
CREATED:20260120T102040Z
LAST-MODIFIED:20260120T124630Z
UID:3301-1782655200-1782662400@www.ourladyofhope.org.uk
SUMMARY:Summer Fair
DESCRIPTION:
URL:https://www.ourladyofhope.org.uk/event/summer-fair-3/
LOCATION:Ss Peter & Paul\, Park Rd\, Pendleton\, M6 8JR
CATEGORIES:Fundraising,Social Event
ATTACH;FMTTYPE=image/png:https://www.ourladyofhope.org.uk/wp-content/uploads/2026/01/summer-fair.png
END:VEVENT
BEGIN:VEVENT
DTSTART;TZID=UTC:20261021T190000
DTEND;TZID=UTC:20261021T190000
DTSTAMP:20260421T215547
CREATED:20260316T120841Z
LAST-MODIFIED:20260316T120915Z
UID:3960-1792609200-1792609200@www.ourladyofhope.org.uk
SUMMARY:Mikron Theatre - Wensleydale Whey!
DESCRIPTION:
URL:https://www.ourladyofhope.org.uk/event/mikron-theatre-wensleydale-whey/
LOCATION:Ss Peter & Paul\, Park Rd\, Pendleton\, M6 8JR
CATEGORIES:Fundraising
END:VEVENT
BEGIN:VEVENT
DTSTART;TZID=UTC:20261128T130000
DTEND;TZID=UTC:20261128T150000
DTSTAMP:20260421T215547
CREATED:20260120T102336Z
LAST-MODIFIED:20260120T125116Z
UID:3303-1795870800-1795878000@www.ourladyofhope.org.uk
SUMMARY:Christmas Fair
DESCRIPTION:
URL:https://www.ourladyofhope.org.uk/event/christmas-fair-4/
LOCATION:St Luke’s Parish Centre\, Swinton Park Rd\, Irlams o’ th’ Height\, Salford\, M6 7WR
CATEGORIES:Fundraising,Social Event
ATTACH;FMTTYPE=image/png:https://www.ourladyofhope.org.uk/wp-content/uploads/2026/01/Christmas-Fair.png
END:VEVENT
BEGIN:VEVENT
DTSTART;TZID=UTC:20261220T173000
DTEND;TZID=UTC:20261220T173000
DTSTAMP:20260421T215547
CREATED:20260120T120925Z
LAST-MODIFIED:20260120T125032Z
UID:3308-1797787800-1797787800@www.ourladyofhope.org.uk
SUMMARY:Carol Concert
DESCRIPTION:Brass Band\, Father Christmas \nFollowed by refreshments in Parish Centre
URL:https://www.ourladyofhope.org.uk/event/carol-concert-4/
CATEGORIES:Mass/Service,Social Event
ATTACH;FMTTYPE=image/png:https://www.ourladyofhope.org.uk/wp-content/uploads/2026/01/Carol-Concert.png
END:VEVENT
END:VCALENDAR