BEGIN:VCALENDAR
VERSION:2.0
PRODID:-//Our Lady Of Hope - ECPv6.15.20//NONSGML v1.0//EN
CALSCALE:GREGORIAN
METHOD:PUBLISH
X-WR-CALNAME:Our Lady Of Hope
X-ORIGINAL-URL:https://www.ourladyofhope.org.uk
X-WR-CALDESC:Events for Our Lady Of Hope
REFRESH-INTERVAL;VALUE=DURATION:PT1H
X-Robots-Tag:noindex
X-PUBLISHED-TTL:PT1H
BEGIN:VTIMEZONE
TZID:UTC
BEGIN:STANDARD
TZOFFSETFROM:+0000
TZOFFSETTO:+0000
TZNAME:UTC
DTSTART:20230101T000000
END:STANDARD
END:VTIMEZONE
BEGIN:VEVENT
DTSTART;TZID=UTC:20240321T193000
DTEND;TZID=UTC:20240321T193000
DTSTAMP:20260423T113303
CREATED:20240315T190009Z
LAST-MODIFIED:20240315T190036Z
UID:1552-1711049400-1711049400@www.ourladyofhope.org.uk
SUMMARY:Our Lady of Hope Parish Men's Fellowship
DESCRIPTION:Our Lady of Hope Parish Men’s Fellowship invites all men in the\nparish to our next meeting scheduled for this Thursday 21 March\nOur Father Prayer Resources: During this season of Lent\, the Diocese\n2024 at 7.30pm at St Luke’s Church. We look forward to meeting\nof Salford has been sharing a series of short video reflections to help you.
URL:https://www.ourladyofhope.org.uk/event/our-lady-of-hope-parish-mens-fellowship/
LOCATION:St Luke church\, Swinton Park Rd\, Salford\, M6 7WR
CATEGORIES:Parish Group
END:VEVENT
END:VCALENDAR