BEGIN:VCALENDAR
VERSION:2.0
PRODID:-//Our Lady Of Hope - ECPv6.15.20//NONSGML v1.0//EN
CALSCALE:GREGORIAN
METHOD:PUBLISH
X-WR-CALNAME:Our Lady Of Hope
X-ORIGINAL-URL:https://www.ourladyofhope.org.uk
X-WR-CALDESC:Events for Our Lady Of Hope
REFRESH-INTERVAL;VALUE=DURATION:PT1H
X-Robots-Tag:noindex
X-PUBLISHED-TTL:PT1H
BEGIN:VTIMEZONE
TZID:UTC
BEGIN:STANDARD
TZOFFSETFROM:+0000
TZOFFSETTO:+0000
TZNAME:UTC
DTSTART:20240101T000000
END:STANDARD
END:VTIMEZONE
BEGIN:VEVENT
DTSTART;TZID=UTC:20250410T191500
DTEND;TZID=UTC:20250410T201500
DTSTAMP:20260423T115725
CREATED:20250312T113808Z
LAST-MODIFIED:20250312T113902Z
UID:2751-1744312500-1744316100@www.ourladyofhope.org.uk
SUMMARY:Lent Talk: Holy Week and the Triduum
DESCRIPTION:Deacon Paul will discuss \n\nHoly Week\, specifically some interesting details about Palm Sunday\, Holy Monday\, Holy Tuesday\, Holy Wednesday\, and Holy Thursday.\nthe Sacred Triduum\, specifically some interesting details about the Last Supper\, Good Friday\, Holy Saturday\, and the Easter Vigil.\nthe origins of the word Easter\, and how its date is determined each year.
URL:https://www.ourladyofhope.org.uk/event/lent-talk-holy-week-and-the-triduum/
CATEGORIES:Meeting
END:VEVENT
END:VCALENDAR