BEGIN:VCALENDAR
VERSION:2.0
PRODID:-//Our Lady Of Hope - ECPv6.15.20//NONSGML v1.0//EN
CALSCALE:GREGORIAN
METHOD:PUBLISH
X-WR-CALNAME:Our Lady Of Hope
X-ORIGINAL-URL:https://www.ourladyofhope.org.uk
X-WR-CALDESC:Events for Our Lady Of Hope
REFRESH-INTERVAL;VALUE=DURATION:PT1H
X-Robots-Tag:noindex
X-PUBLISHED-TTL:PT1H
BEGIN:VTIMEZONE
TZID:UTC
BEGIN:STANDARD
TZOFFSETFROM:+0000
TZOFFSETTO:+0000
TZNAME:UTC
DTSTART:20230101T000000
END:STANDARD
END:VTIMEZONE
BEGIN:VEVENT
DTSTART;TZID=UTC:20240313T103000
DTEND;TZID=UTC:20240313T103000
DTSTAMP:20260423T020026
CREATED:20240306T093118Z
LAST-MODIFIED:20240306T093200Z
UID:1527-1710325800-1710325800@www.ourladyofhope.org.uk
SUMMARY:St. Luke’s UCM (changed time and place)
DESCRIPTION:St. Luke’s UCM next meeting will take place at Toni Kerr’s home at 10.30 am on Wed\, 13 March as Centre in use following Lenten Mass
URL:https://www.ourladyofhope.org.uk/event/st-lukes-ucm-changed-time-and-place/
CATEGORIES:Meeting
END:VEVENT
END:VCALENDAR