BEGIN:VCALENDAR
VERSION:2.0
PRODID:-//Our Lady Of Hope - ECPv6.15.20//NONSGML v1.0//EN
CALSCALE:GREGORIAN
METHOD:PUBLISH
X-WR-CALNAME:Our Lady Of Hope
X-ORIGINAL-URL:https://www.ourladyofhope.org.uk
X-WR-CALDESC:Events for Our Lady Of Hope
REFRESH-INTERVAL;VALUE=DURATION:PT1H
X-Robots-Tag:noindex
X-PUBLISHED-TTL:PT1H
BEGIN:VTIMEZONE
TZID:UTC
BEGIN:STANDARD
TZOFFSETFROM:+0000
TZOFFSETTO:+0000
TZNAME:UTC
DTSTART:20230101T000000
END:STANDARD
END:VTIMEZONE
BEGIN:VEVENT
DTSTART;TZID=UTC:20240104T190000
DTEND;TZID=UTC:20240104T190000
DTSTAMP:20260423T044326
CREATED:20231230T141702Z
LAST-MODIFIED:20240103T112356Z
UID:1295-1704394800-1704394800@www.ourladyofhope.org.uk
SUMMARY:UCM Ss Peter & Paul
DESCRIPTION:UCM (SsPP): Our next meeting will be on Thursday 4 January 2024 after the 6.30pm Mass. Everybody welcome
URL:https://www.ourladyofhope.org.uk/event/ucm-ss-peter-paul/
LOCATION:Ss Peter & Paul\, Park Rd\, Pendleton\, M6 8JR
CATEGORIES:Meeting
END:VEVENT
BEGIN:VEVENT
DTSTART;TZID=UTC:20240110T190000
DTEND;TZID=UTC:20240110T190000
DTSTAMP:20260423T044326
CREATED:20240103T111948Z
LAST-MODIFIED:20240103T112043Z
UID:1312-1704913200-1704913200@www.ourladyofhope.org.uk
SUMMARY:UCM St Luke's
DESCRIPTION:7 pm Wed\, 10 January 2024 St. Luke’s UCM meeting in Parish Centre – all welcome
URL:https://www.ourladyofhope.org.uk/event/ucm-st-lukes/
LOCATION:St Luke’s Parish Centre\, Swinton Park Rd\, Irlams o’ th’ Height\, Salford\, M6 7WR
CATEGORIES:Meeting
END:VEVENT
BEGIN:VEVENT
DTSTART;TZID=UTC:20240131T000000
DTEND;TZID=UTC:20240131T000000
DTSTAMP:20260423T044326
CREATED:20231230T142105Z
LAST-MODIFIED:20231230T142105Z
UID:1297-1706659200-1706659200@www.ourladyofhope.org.uk
SUMMARY:Flower Arranging
DESCRIPTION:Flower Arranging: There will be no flower arranging classes until Wednesday 31 January 2024
URL:https://www.ourladyofhope.org.uk/event/flower-arranging/
LOCATION:Ss Peter & Paul\, Park Rd\, Pendleton\, M6 8JR
CATEGORIES:Meeting
END:VEVENT
END:VCALENDAR