BEGIN:VCALENDAR
VERSION:2.0
PRODID:-//Our Lady Of Hope - ECPv6.15.20//NONSGML v1.0//EN
CALSCALE:GREGORIAN
METHOD:PUBLISH
X-WR-CALNAME:Our Lady Of Hope
X-ORIGINAL-URL:https://www.ourladyofhope.org.uk
X-WR-CALDESC:Events for Our Lady Of Hope
REFRESH-INTERVAL;VALUE=DURATION:PT1H
X-Robots-Tag:noindex
X-PUBLISHED-TTL:PT1H
BEGIN:VTIMEZONE
TZID:UTC
BEGIN:STANDARD
TZOFFSETFROM:+0000
TZOFFSETTO:+0000
TZNAME:UTC
DTSTART:20230101T000000
END:STANDARD
END:VTIMEZONE
BEGIN:VEVENT
DTSTART;TZID=UTC:20240211T080000
DTEND;TZID=UTC:20240211T120000
DTSTAMP:20260423T030623
CREATED:20240207T173934Z
LAST-MODIFIED:20240207T173934Z
UID:1460-1707638400-1707652800@www.ourladyofhope.org.uk
SUMMARY:UCM Cake Sale\, Ss. P&P
DESCRIPTION:We are holding a Cake Sale on Sunday 11 February after the 8am and 11am Masses.
URL:https://www.ourladyofhope.org.uk/event/ucm-cake-sale-ss-pp/
CATEGORIES:Fundraising
END:VEVENT
END:VCALENDAR