BEGIN:VCALENDAR
VERSION:2.0
PRODID:-//Our Lady Of Hope - ECPv6.15.20//NONSGML v1.0//EN
CALSCALE:GREGORIAN
METHOD:PUBLISH
X-ORIGINAL-URL:https://www.ourladyofhope.org.uk
X-WR-CALDESC:Events for Our Lady Of Hope
REFRESH-INTERVAL;VALUE=DURATION:PT1H
X-Robots-Tag:noindex
X-PUBLISHED-TTL:PT1H
BEGIN:VTIMEZONE
TZID:UTC
BEGIN:STANDARD
TZOFFSETFROM:+0000
TZOFFSETTO:+0000
TZNAME:UTC
DTSTART:20230101T000000
END:STANDARD
END:VTIMEZONE
BEGIN:VEVENT
DTSTART;TZID=UTC:20240209T193000
DTEND;TZID=UTC:20240209T193000
DTSTAMP:20260423T030837
CREATED:20231230T142334Z
LAST-MODIFIED:20231230T143450Z
UID:1299-1707507000-1707507000@www.ourladyofhope.org.uk
SUMMARY:Salford Diocesan Lourdes Pilgrimage Centenary Year Fundraiser - The Mercy Brothers
DESCRIPTION:Salford Diocesan Lourdes Pilgrimage Centenary Year Fundraiser – The Mercy Brothers: Join us for a family-friendly night of musical entertainment with the fabulous ‘Mercy Brothers’ band on Friday 9 February\, 8pm (doors 7.30pm)\, at The Hough End Centre\, Mauldeth Road West\, Chortlon-cum Hardy\, Manchester\, M21 7SX. \nThe band is made up of members of the clergy from around the diocese. Tickets are priced at £15 (over 16s) and free for under 16s. Money raised will go to the Centenary Pilgrimage Fund and in support of our sick pilgrims and medical team. To book please visit www.salfordlourdes.co.uk/fundraising or phone the pilgrimage office on 0161 817 2209.
URL:https://www.ourladyofhope.org.uk/event/salford-diocesan-lourdes-pilgrimage-centenary-year-fundraiser-the-mercy-brothers/
LOCATION:The Hough End Centre\, Mauldeth Road West\, Chortlon-cum Hardy\, Manchester\, M21 7SX
CATEGORIES:Fundraising,Social Event
ATTACH;FMTTYPE=image/jpeg:https://www.ourladyofhope.org.uk/wp-content/uploads/2023/12/Mercy-Brothers.jpeg
END:VEVENT
END:VCALENDAR