BEGIN:VCALENDAR
VERSION:2.0
PRODID:-//Our Lady Of Hope - ECPv6.15.20//NONSGML v1.0//EN
CALSCALE:GREGORIAN
METHOD:PUBLISH
X-WR-CALNAME:Our Lady Of Hope
X-ORIGINAL-URL:https://www.ourladyofhope.org.uk
X-WR-CALDESC:Events for Our Lady Of Hope
REFRESH-INTERVAL;VALUE=DURATION:PT1H
X-Robots-Tag:noindex
X-PUBLISHED-TTL:PT1H
BEGIN:VTIMEZONE
TZID:UTC
BEGIN:STANDARD
TZOFFSETFROM:+0000
TZOFFSETTO:+0000
TZNAME:UTC
DTSTART:20220101T000000
END:STANDARD
END:VTIMEZONE
BEGIN:VEVENT
DTSTART;TZID=UTC:20231211T190000
DTEND;TZID=UTC:20231211T193000
DTSTAMP:20260422T173612
CREATED:20231103T093346Z
LAST-MODIFIED:20231126T063708Z
UID:1169-1702321200-1702323000@www.ourladyofhope.org.uk
SUMMARY:Cenacle to Our Lady Queen of All Hearts
DESCRIPTION:Cenacle to Our Lady Queen of All Hearts: The cenacle program will be held on every second Monday of the month. Alternated between the two Churches. It will begin with an exposition of the Blessed Sacrament at 6:30 p.m.\, but prayers will begin officially at 7 pm.
URL:https://www.ourladyofhope.org.uk/event/cenacle-to-our-lady-queen-of-all-hearts-2/
LOCATION:St Luke church\, Swinton Park Rd\, Salford\, M6 7WR
CATEGORIES:Cenacle,Mass/Service
ATTACH;FMTTYPE=image/jpeg:https://www.ourladyofhope.org.uk/wp-content/uploads/2023/11/Blessed_Virgin_Mary.jpg
END:VEVENT
BEGIN:VEVENT
DTSTART;TZID=UTC:20231113T190000
DTEND;TZID=UTC:20231113T193000
DTSTAMP:20260422T173612
CREATED:20231103T091228Z
LAST-MODIFIED:20231126T063724Z
UID:1153-1699902000-1699903800@www.ourladyofhope.org.uk
SUMMARY:Cenacle to Our Lady Queen of All Hearts
DESCRIPTION:Cenacle to Our Lady Queen of All Hearts: The cenacle program will be held on every second Monday of the month. Alternated between the two Churches. It will begin with an exposition of the Blessed Sacrament at 6:30 p.m.\, but prayers will begin officially at 7 pm.
URL:https://www.ourladyofhope.org.uk/event/cenacle-to-our-lady-queen-of-all-hearts/
LOCATION:Ss Peter & Paul\, Park Rd\, Pendleton\, M6 8JR
CATEGORIES:Cenacle,Mass/Service
ATTACH;FMTTYPE=image/jpeg:https://www.ourladyofhope.org.uk/wp-content/uploads/2023/11/Blessed_Virgin_Mary.jpg
END:VEVENT
END:VCALENDAR