BEGIN:VCALENDAR
VERSION:2.0
PRODID:-//Our Lady Of Hope - ECPv6.15.20//NONSGML v1.0//EN
CALSCALE:GREGORIAN
METHOD:PUBLISH
X-ORIGINAL-URL:https://www.ourladyofhope.org.uk
X-WR-CALDESC:Events for Our Lady Of Hope
REFRESH-INTERVAL;VALUE=DURATION:PT1H
X-Robots-Tag:noindex
X-PUBLISHED-TTL:PT1H
BEGIN:VTIMEZONE
TZID:UTC
BEGIN:STANDARD
TZOFFSETFROM:+0000
TZOFFSETTO:+0000
TZNAME:UTC
DTSTART:20230101T000000
END:STANDARD
END:VTIMEZONE
BEGIN:VEVENT
DTSTART;TZID=UTC:20241010T190000
DTEND;TZID=UTC:20241010T190000
DTSTAMP:20260423T024014
CREATED:20240925T054213Z
LAST-MODIFIED:20240925T054305Z
UID:2276-1728586800-1728586800@www.ourladyofhope.org.uk
SUMMARY:Sacramental Programme - First Communion
DESCRIPTION:Sacramental Programme: If your child has been baptised and is in year 3 or above and has not yet made their First Holy Communion or First Reconciliation\, they are eligible to take part in our Sacramental Programme this year. If they are NOT AT ST LUKE’S\, please contact us by email at priests@ourladyofhope.org.uk or telephone on 0161 736 2696 to register for the programme. There will be a information and registration which will take place Thursday 10th October at 7pm at St Luke’s Church. For those whose children are at St Luke’s school\, a letter will be sent in the coming weeks\, via the school.
URL:https://www.ourladyofhope.org.uk/event/sacramental-programme-first-communion/
LOCATION:St Luke church\, Swinton Park Rd\, Salford\, M6 7WR
CATEGORIES:Meeting
END:VEVENT
END:VCALENDAR